BEGIN:VCALENDAR
VERSION:2.0
PRODID:-//Salus - ECPv4.7.2//NONSGML v1.0//EN
CALSCALE:GREGORIAN
METHOD:PUBLISH
X-WR-CALNAME:Salus
X-ORIGINAL-URL:https://www.salusfvg.it
X-WR-CALDESC:Corsi per Salus
BEGIN:VEVENT
DTSTART;TZID=Europe/Rome:20250908T090000
DTEND;TZID=Europe/Rome:20250916T130000
DTSTAMP:20260423T192217
CREATED:20250715T081547Z
LAST-MODIFIED:20250716T081724Z
UID:2124-1757322000-1758027600@www.salusfvg.it
SUMMARY:Primo Soccorso (12 ore) – aziende gruppi B/C
DESCRIPTION:Il corso di primo soccorso aziendale si svolgerà nelle seguenti giornate: \n08/09/2025 – dalle 9:00 alle 13:00\n09/09/2025 – dalle 9:00 alle 13:00\n16/09/2025 – dalle 9:00 alle 13:00 \n
URL:https://www.salusfvg.it/corso/primo-soccorso-12-ore-aziende-gruppi-b-c/
CATEGORIES:Formazione,Primo Soccorso
ORGANIZER;CN="Salus%20Srl":MAILTO:formazione@salusfvg.it
END:VEVENT
END:VCALENDAR